BEGIN:VCALENDAR
PRODID:-//Microsoft Corporation//Outlook 16.0 MIMEDIR//EN
VERSION:2.0
METHOD:REQUEST
X-MS-OLK-FORCEINSPECTOROPEN:TRUE
BEGIN:VTIMEZONE
TZID:W. Europe Standard Time
BEGIN:STANDARD
DTSTART:16011028T030000
RRULE:FREQ=YEARLY;BYDAY=-1SU;BYMONTH=10
TZOFFSETFROM:+0200
TZOFFSETTO:+0100
END:STANDARD
BEGIN:DAYLIGHT
DTSTART:16010325T020000
RRULE:FREQ=YEARLY;BYDAY=-1SU;BYMONTH=3
TZOFFSETFROM:+0100
TZOFFSETTO:+0200
END:DAYLIGHT
END:VTIMEZONE
BEGIN:VEVENT
ATTENDEE;CN="Ina Fast";ROLE=OPT-PARTICIPANT;RSVP=TRUE:mailto:i.fast@textil-
	bekleidung.de
CLASS:PUBLIC
CREATED:20250417T122955Z
DESCRIPTION: \n\n__________________________________________________________
	______________________\n\nMicrosoft Teams Benötigen Sie Hilfe? <https://a
	ka.ms/JoinTeamsMeeting?omkt=de-DE>  \n\nJetzt an der Besprechung teilnehme
	n <https://teams.microsoft.com/l/meetup-join/19%3ameeting_ZThhYzIyZGYtMzAz
	NC00ODJlLTk3ZGUtZDdlM2U4ZjFjNGM4%40thread.v2/0?context=%7b%22Tid%22%3a%22d
	e70cc83-8ac3-46ed-8773-f672e05ce59a%22%2c%22Oid%22%3a%2255592911-6901-4558
	-bc5b-adb202b7c15f%22%7d>  \n\nBesprechungs-ID: 376 195 773 021 6 \n\nKenn
	ung: 8NZ2Wi7y \n\n________________________________\n\nFür Organisatoren: 
	Besprechungsoptionen <https://teams.microsoft.com/meetingOptions/?organize
	rId=55592911-6901-4558-bc5b-adb202b7c15f&tenantId=de70cc83-8ac3-46ed-8773-
	f672e05ce59a&threadId=19_meeting_ZThhYzIyZGYtMzAzNC00ODJlLTk3ZGUtZDdlM2U4Z
	jFjNGM4@thread.v2&messageId=0&language=de-DE>  \n\n_______________________
	_________________________________________________________\n\n \n\n
DTEND;TZID="W. Europe Standard Time":20250704T120000
DTSTAMP:20250417T122045Z
DTSTART;TZID="W. Europe Standard Time":20250704T100000
LAST-MODIFIED:20250417T122955Z
LOCATION:Microsoft Teams-Besprechung
ORGANIZER;CN="Anke Herbst":mailto:anke.herbst@textil-bekleidung.de
PRIORITY:5
SEQUENCE:0
SUMMARY;LANGUAGE=de:"Selbsthilfegruppe" - Online-Austausch für Nachhaltigk
	eitsmanager
TRANSP:OPAQUE
UID:040000008200E00074C5B7101A82E0080000000040E30FEB90AFDB01000000000000000
	010000000429CBBC6232B094DBC27C3DC89CDAA63
X-ALT-DESC;FMTTYPE=text/html:<html xmlns:v="urn:schemas-microsoft-com:vml" 
	xmlns:o="urn:schemas-microsoft-com:office:office" xmlns:w="urn:schemas-mic
	rosoft-com:office:word" xmlns:m="http://schemas.microsoft.com/office/2004/
	12/omml" xmlns="http://www.w3.org/TR/REC-html40"><head><meta name=Generato
	r content="Microsoft Word 15 (filtered medium)"><!--[if !mso]><style>v\\:*
	 {behavior:url(#default#VML)\;}\no\\:* {behavior:url(#default#VML)\;}\nw\\
	:* {behavior:url(#default#VML)\;}\n.shape {behavior:url(#default#VML)\;}\n
	</style><![endif]--><style><!--\n/* Font Definitions */\n@font-face\n	{fon
	t-family:"Cambria Math"\;\n	panose-1:2 4 5 3 5 4 6 3 2 4\;}\n@font-face\n	
	{font-family:Calibri\;\n	panose-1:2 15 5 2 2 2 4 3 2 4\;}\n@font-face\n	{f
	ont-family:Aptos\;}\n@font-face\n	{font-family:"Segoe UI"\;\n	panose-1:2 1
	1 5 2 4 2 4 2 2 3\;}\n/* Style Definitions */\np.MsoNormal\, li.MsoNormal\
	, div.MsoNormal\n	{margin:0cm\;\n	font-size:12.0pt\;\n	font-family:"Aptos"
	\,sans-serif\;\n	mso-ligatures:standardcontextual\;\n	mso-fareast-language
	:EN-US\;}\na:link\, span.MsoHyperlink\n	{mso-style-priority:99\;\n	color:#
	467886\;\n	text-decoration:underline\;}\nspan.E-MailFormatvorlage18\n	{mso
	-style-type:personal-compose\;\n	font-family:"Calibri"\,sans-serif\;\n	col
	or:windowtext\;}\nspan.me-email-text\n	{mso-style-name:me-email-text\;}\ns
	pan.me-email-text-secondary\n	{mso-style-name:me-email-text-secondary\;}\n
	.MsoChpDefault\n	{mso-style-type:export-only\;\n	font-size:10.0pt\;\n	mso-
	ligatures:none\;\n	mso-fareast-language:EN-US\;}\n@page WordSection1\n	{si
	ze:612.0pt 792.0pt\;\n	margin:70.85pt 70.85pt 2.0cm 70.85pt\;}\ndiv.WordSe
	ction1\n	{page:WordSection1\;}\n--></style><!--[if gte mso 9]><xml>\n<o:sh
	apedefaults v:ext="edit" spidmax="1026" />\n</xml><![endif]--><!--[if gte 
	mso 9]><xml>\n<o:shapelayout v:ext="edit">\n<o:idmap v:ext="edit" data="1"
	 />\n</o:shapelayout></xml><![endif]--></head><body lang=DE link="#467886"
	 vlink="#96607D" style='word-wrap:break-word'><div class=WordSection1><p c
	lass=MsoNormal><span style='font-size:11.0pt\;font-family:"Calibri"\,sans-
	serif'><o:p>&nbsp\;</o:p></span></p><div><div style='margin-bottom:18.0pt\
	;overflow:hidden'><p class=MsoNormal><span style='font-family:"Segoe UI"\,
	sans-serif\;color:#242424'>_______________________________________________
	_________________________________</span><span style='font-family:"Segoe UI
	"\,sans-serif\;color:#242424\;mso-ligatures:none'><o:p></o:p></span></p></
	div><div style='margin-bottom:9.0pt'><p class=MsoNormal><span class=me-ema
	il-text><b><span style='font-size:18.0pt\;font-family:"Segoe UI"\,sans-ser
	if\;color:#242424'>Microsoft Teams</span></b></span><span style='font-fami
	ly:"Segoe UI"\,sans-serif\;color:#242424'> <a href="https://aka.ms/JoinTea
	msMeeting?omkt=de-DE"><span style='font-size:10.5pt\;color:#5B5FC7'>Benöt
	igen Sie Hilfe?</span></a> <o:p></o:p></span></p></div><div style='margin-
	bottom:4.5pt'><p class=MsoNormal><span style='font-family:"Segoe UI"\,sans
	-serif\;color:#242424'><a href="https://teams.microsoft.com/l/meetup-join/
	19%3ameeting_ZThhYzIyZGYtMzAzNC00ODJlLTk3ZGUtZDdlM2U4ZjFjNGM4%40thread.v2/
	0?context=%7b%22Tid%22%3a%22de70cc83-8ac3-46ed-8773-f672e05ce59a%22%2c%22O
	id%22%3a%2255592911-6901-4558-bc5b-adb202b7c15f%22%7d" target="_blank" tit
	le="Meeting join link"><b><span style='font-size:15.0pt\;color:#5B5FC7'>Je
	tzt an der Besprechung teilnehmen</span></b></a> <o:p></o:p></span></p></d
	iv><div style='margin-bottom:4.5pt'><p class=MsoNormal><span class=me-emai
	l-text-secondary><span style='font-size:10.5pt\;font-family:"Segoe UI"\,sa
	ns-serif\;color:#616161'>Besprechungs-ID: </span></span><span class=me-ema
	il-text><span style='font-size:10.5pt\;font-family:"Segoe UI"\,sans-serif\
	;color:#242424'>376 195 773 021 6</span></span><span style='font-family:"S
	egoe UI"\,sans-serif\;color:#242424'> <o:p></o:p></span></p></div><div sty
	le='margin-bottom:18.0pt'><p class=MsoNormal><span class=me-email-text-sec
	ondary><span style='font-size:10.5pt\;font-family:"Segoe UI"\,sans-serif\;
	color:#616161'>Kennung: </span></span><span class=me-email-text><span styl
	e='font-size:10.5pt\;font-family:"Segoe UI"\,sans-serif\;color:#242424'>8N
	Z2Wi7y</span></span><span style='font-family:"Segoe UI"\,sans-serif\;color
	:#242424'> <o:p></o:p></span></p></div><div style='margin-bottom:18.0pt'><
	div class=MsoNormal align=center style='text-align:center'><span style='fo
	nt-family:"Segoe UI"\,sans-serif\;color:#242424'><hr size=1 width="100%" a
	lign=center></span></div></div><div><p class=MsoNormal><span class=me-emai
	l-text-secondary><span style='font-size:10.5pt\;font-family:"Segoe UI"\,sa
	ns-serif\;color:#616161'>Für Organisatoren: </span></span><span style='fo
	nt-family:"Segoe UI"\,sans-serif\;color:#242424'><a href="https://teams.mi
	crosoft.com/meetingOptions/?organizerId=55592911-6901-4558-bc5b-adb202b7c1
	5f&amp\;tenantId=de70cc83-8ac3-46ed-8773-f672e05ce59a&amp\;threadId=19_mee
	ting_ZThhYzIyZGYtMzAzNC00ODJlLTk3ZGUtZDdlM2U4ZjFjNGM4@thread.v2&amp\;messa
	geId=0&amp\;language=de-DE" target="_blank"><span style='font-size:10.5pt\
	;color:#5B5FC7'>Besprechungsoptionen</span></a> <o:p></o:p></span></p></di
	v><div style='margin-bottom:18.0pt\;overflow:hidden'><p class=MsoNormal><s
	pan style='font-family:"Segoe UI"\,sans-serif\;color:#242424'>____________
	____________________________________________________________________<o:p><
	/o:p></span></p></div></div><p class=MsoNormal><span style='font-size:11.0
	pt\;font-family:"Calibri"\,sans-serif'><o:p>&nbsp\;</o:p></span></p></div>
	</body></html>
X-MICROSOFT-CDO-BUSYSTATUS:BUSY
X-MICROSOFT-CDO-IMPORTANCE:1
X-MICROSOFT-DISALLOW-COUNTER:FALSE
X-MS-OLK-APPTLASTSEQUENCE:1
X-MS-OLK-APPTSEQTIME:20250417T122045Z
X-MS-OLK-AUTOFILLLOCATION:FALSE
X-MS-OLK-CONFTYPE:0
BEGIN:VALARM
TRIGGER:-PT15M
ACTION:DISPLAY
DESCRIPTION:Reminder
END:VALARM
END:VEVENT
END:VCALENDAR
